BEGIN:VCALENDAR
VERSION:2.0
PRODID:icalendar-ruby
CALSCALE:GREGORIAN
METHOD:PUBLISH
BEGIN:VEVENT
DTSTAMP:20260425T125526Z
UID:9-5381566@cathedralhamilton.ca
DTSTART:20240925T123000Z
DTEND:20240925T133000Z
CLASS:PUBLIC
CREATED:20260425T071442
DESCRIPTION:We invite you to join us for Wednesday Morning Prayer via Zoom.
   A weekly reminder is automatically sent out to those who have subscribe
 d to join.  The reminder will include the Order of Service as well as the
  Zoom link.  Please contact Bruce Burbidge  to be added to our Wednesday
  Morning Prayer list.  \n \n \n \n 
LAST-MODIFIED:20260425T071442
LOCATION:Zoom
SUMMARY:Wednesday Morning Prayer 
URL;VALUE=URI:https://www.cathedralhamilton.ca/events/wednesday-morning-pra
 yer/2024-09-25
ATTACH;FILENAME=Wednesday-Morning-Prayer.jpg;FMTTYPE=image/jpeg:https://dq5
 pwpg1q8ru0.cloudfront.net/2025/05/08/19/27/38/6d6a040d-ac7a-47bf-b62c-92eb
 f42fa384/Wednesday-Morning-Prayer.jpg
END:VEVENT
END:VCALENDAR
