BEGIN:VCALENDAR
VERSION:2.0
PRODID:icalendar-ruby
CALSCALE:GREGORIAN
METHOD:PUBLISH
BEGIN:VEVENT
DTSTAMP:20260424T041931Z
UID:148-5357684@cathedralhamilton.ca
DTSTART:20261027T123000Z
DTEND:20261027T130000Z
CLASS:PUBLIC
CREATED:20260423T215315
DESCRIPTION:An in-person Morning Prayer Service for our parishioners\, memb
 ers of our community\, and our friends.   We're here for you!
LAST-MODIFIED:20260423T215315
LOCATION:Christ's Church Cathedral\, 252 James St. N.\, Hamilton\, ON
SUMMARY:Morning Prayer Service
URL;VALUE=URI:https://www.cathedralhamilton.ca/events/morning-prayer-servic
 e--148/2026-10-27
ATTACH;FILENAME=Morning-Prayer.jpg;FMTTYPE=image/jpeg:https://dq5pwpg1q8ru0
 .cloudfront.net/2024/03/13/19/53/05/214f004b-b1fa-4526-80e5-eb2b52c305ae/M
 orning-Prayer.jpg
END:VEVENT
END:VCALENDAR
